2.43840000
0.00000000
0.00000000
-2.43840000
209778.06239719
3337040.08219038
